BEGIN:VCALENDAR
VERSION:2.0
PRODID:-//in natura - ECPv6.15.19//NONSGML v1.0//EN
CALSCALE:GREGORIAN
METHOD:PUBLISH
X-WR-CALNAME:in natura
X-ORIGINAL-URL:https://www.naturschule-mv.de
X-WR-CALDESC:Veranstaltungen für in natura
REFRESH-INTERVAL;VALUE=DURATION:PT1H
X-Robots-Tag:noindex
X-PUBLISHED-TTL:PT1H
BEGIN:VTIMEZONE
TZID:Europe/Berlin
BEGIN:DAYLIGHT
TZOFFSETFROM:+0100
TZOFFSETTO:+0200
TZNAME:CEST
DTSTART:20250330T010000
END:DAYLIGHT
BEGIN:STANDARD
TZOFFSETFROM:+0200
TZOFFSETTO:+0100
TZNAME:CET
DTSTART:20251026T010000
END:STANDARD
BEGIN:DAYLIGHT
TZOFFSETFROM:+0100
TZOFFSETTO:+0200
TZNAME:CEST
DTSTART:20260329T010000
END:DAYLIGHT
BEGIN:STANDARD
TZOFFSETFROM:+0200
TZOFFSETTO:+0100
TZNAME:CET
DTSTART:20261025T010000
END:STANDARD
BEGIN:DAYLIGHT
TZOFFSETFROM:+0100
TZOFFSETTO:+0200
TZNAME:CEST
DTSTART:20270328T010000
END:DAYLIGHT
BEGIN:STANDARD
TZOFFSETFROM:+0200
TZOFFSETTO:+0100
TZNAME:CET
DTSTART:20271031T010000
END:STANDARD
END:VTIMEZONE
BEGIN:VEVENT
DTSTART;TZID=Europe/Berlin:20260512T000000
DTEND;TZID=Europe/Berlin:20260513T235959
DTSTAMP:20260424T141039
CREATED:20260422T204848Z
LAST-MODIFIED:20260422T205957Z
UID:10000170-1778544000-1778716799@www.naturschule-mv.de
SUMMARY:5. Fachtagung „NIX WIE RAUS IN DEN WALD! – Waldpädagogik von A-Z“
DESCRIPTION:Wir laden Wald- und Bildungsbegeisterte in den Wildpark nach Güstrow ein! Die Fachtagung ist ein gemeinsames Projekt von SDW MV\, Landesforst MV & Naturschule MV.  \n\n\n\nWeitere Informationen und Anmeldung unter www.sdw-mv.de.
URL:https://www.naturschule-mv.de/veranstaltung/5-fachtagung-nix-wie-raus-in-den-wald-waldpaedagogik-von-a-z/
CATEGORIES:Tagesseminare
END:VEVENT
BEGIN:VEVENT
DTSTART;TZID=Europe/Berlin:20260707T000000
DTEND;TZID=Europe/Berlin:20260708T235959
DTSTAMP:20260424T141039
CREATED:20260422T202026Z
LAST-MODIFIED:20260422T205334Z
UID:10000149-1783382400-1783555199@www.naturschule-mv.de
SUMMARY:Natur\, Kunst & Poesie – Schmetterlinge und von der Sinnlichkeit der Natur
DESCRIPTION:In diesem Seminar entdecken wir die zarte Seite der Natur durch Literatur\, Kunst und Poesie\, wobei wir uns von Schmetterlingen und ihrer Schönheit inspirieren lassen und kreative Methoden wie Landart und Nature Journaling kennenlernen. \n\n\n\nVeranstaltungsdetailsOrt:Klanghaus Ilow\, 23974 NeuburgZeit: jeweils von 10:00 – 15:30 UhrTeilnahmebeitragDie Preise sind ohne Tagesverpflegung\, bitte bringe einen eigenen Picknickrucksack mit.Es fällt eine zusätzliche Gebühr von 12\,- EUR für den Eintritt ins Schmetterlingshaus an\, die vor Ort in bar entrichtet werden muss.
URL:https://www.naturschule-mv.de/veranstaltung/natur-kunst-poesie-schmetterlinge-und-von-der-sinnlichkeit-der-natur/
CATEGORIES:Tagesseminare
END:VEVENT
BEGIN:VEVENT
DTSTART;TZID=Europe/Berlin:20260903T000000
DTEND;TZID=Europe/Berlin:20260904T235959
DTSTAMP:20260424T141039
CREATED:20260422T202518Z
LAST-MODIFIED:20260422T205249Z
UID:10000155-1788393600-1788566399@www.naturschule-mv.de
SUMMARY:Natur & Gesundheit – Vom Potential der Natur für unsere Gesundheit
DESCRIPTION:Vor allem im Wald können wir unsere Seele baumeln lassen und uns vom oft stressigen Alltag erholen. Mit uns kannst du in diesem Seminar die Wirkung der Natur hautnah erfahren und bekommst einen vielfältig gepackten Methodenkoffer für dich und auch für die Arbeit mit Kindern an die Hand. \n\n\n\nVeranstaltungsdetailsOrt:Klanghaus Ilow\, 23974 NeuburgZeit: jeweils von 10:00 – 15:30 UhrTeilnahmebeitragDie Preise sind ohne Tagesverpflegung\, bitte bringe einen eigenen Picknickrucksack mit.
URL:https://www.naturschule-mv.de/veranstaltung/natur-gesundheit-vom-potential-der-natur-fuer-unsere-gesundheit/
CATEGORIES:Tagesseminare
END:VEVENT
BEGIN:VEVENT
DTSTART;TZID=Europe/Berlin:20260916T000000
DTEND;TZID=Europe/Berlin:20260917T235959
DTSTAMP:20260424T141039
CREATED:20260422T202928Z
LAST-MODIFIED:20260422T205131Z
UID:10000159-1789516800-1789689599@www.naturschule-mv.de
SUMMARY:Naturschätze & Wildes Handwerk
DESCRIPTION:In diesem Seminar kannst du die Natur aktiv und kreativ entdecken\, indem du mit natürlichen Materialien vielfältige Handwerkstechniken wie Schnitzen\, Kräuterverarbeitung\, Papierschöpfen und mehr erproben und so nachhaltige Lernerlebnisse erleben und schaffen kannst. \n\n\n\nVeranstaltungsdetailsOrt:Klanghaus Ilow\, 23974 NeuburgZeit: jeweils von 10:00 – 15:30 UhrTeilnahmebeitragDie Preise sind ohne Tagesverpflegung\, bitte bringe einen eigenen Picknickrucksack mit.Es fällt eine zusätzliche Gebühr von 10\,- EUR für Verbrauchsmaterialen an\, die vor Ort in bar entrichtet werden muss.
URL:https://www.naturschule-mv.de/veranstaltung/naturschaetze-wildes-handwerk/
CATEGORIES:Tagesseminare
END:VEVENT
BEGIN:VEVENT
DTSTART;TZID=Europe/Berlin:20261015T000000
DTEND;TZID=Europe/Berlin:20261016T235959
DTSTAMP:20260424T141039
CREATED:20260422T203457Z
LAST-MODIFIED:20260422T205100Z
UID:10000163-1792022400-1792195199@www.naturschule-mv.de
SUMMARY:Am seidenen Faden – Faszination Spinnentiere
DESCRIPTION:Entdecke spielerisch und kreativ die faszinierende Welt der Spinnen\, überwinde Berührungsängste und gestalte spannende Naturprojekte\, die Kunst\, Wissenschaft und Natur verbinden. \n\n\n\nVeranstaltungsdetailsOrt:Klanghaus Ilow\, 23974 NeuburgZeit: jeweils von 10:00 – 15:30 UhrTeilnahmebeitragDie Preise sind ohne Tagesverpflegung\, bitte bringe einen eigenen Picknickrucksack mit.Es fällt eine zusätzliche Gebühr von 5\,- EUR für Verbrauchsmaterialen an\, die vor Ort in bar entrichtet werden muss.
URL:https://www.naturschule-mv.de/veranstaltung/am-seidenen-faden-faszination-spinnentiere/
CATEGORIES:Tagesseminare
END:VEVENT
BEGIN:VEVENT
DTSTART;TZID=Europe/Berlin:20261127T000000
DTEND;TZID=Europe/Berlin:20261129T235959
DTSTAMP:20260424T141039
CREATED:20260422T210317Z
LAST-MODIFIED:20260422T210321Z
UID:10000171-1795737600-1795996799@www.naturschule-mv.de
SUMMARY:Auf dem Lichterpfad der Waldwichtel & Zwerge – Heimlichkeiten zum Advent
DESCRIPTION:Erlebe mit deiner Familie oder deinen Kolleg:innen eine magische Reise zu den geheimnisvollen Zwergen und Waldwichteln\, entdecke versteckte Welten\, lausche Geschichten\, trinke Zwergenpunsch am Feuer und lass dich verzaubern! \n\n\n\nBuchbar per Mail naturschule@in-natura.de
URL:https://www.naturschule-mv.de/veranstaltung/auf-dem-lichterpfad-der-waldwichtel-zwerge-heimlichkeiten-zum-advent/
CATEGORIES:Tagesseminare
END:VEVENT
BEGIN:VEVENT
DTSTART;TZID=Europe/Berlin:20261210T100000
DTEND;TZID=Europe/Berlin:20261210T153000
DTSTAMP:20260424T141039
CREATED:20260422T203810Z
LAST-MODIFIED:20260422T203911Z
UID:10000165-1796896800-1796916600@www.naturschule-mv.de
SUMMARY:Naturwerkstatt Feuer
DESCRIPTION:In diesem Seminar entdecken wir gemeinsam die faszinierenden Geheimnisse des Feuers: Wir lernen Techniken zum Entfachen und Arbeiten mit Feuer\, werden in der Feuerwerkstatt kreativ\, kochen darüber und beschäftigen uns intensiv mit Sicherheitsrichtlinien und einem verantwortungsvollen Umgang mit dem Element Feuer. Impulse rund um die Verknüpfung der Bildungsbereiche ergänzen das Seminar. \n\n\n\nVeranstaltungsdetailsOrt:Klanghaus Ilow\, 23974 NeuburgZeit: jeweils von 10:00 – 15:30 UhrTeilnahmebeitragDie Preise sind ohne Tagesverpflegung\, bitte bringe einen eigenen Picknickrucksack mit.Es fällt eine zusätzliche Gebühr von 5\,- EUR für Verbrauchsmaterialen an\, die vor Ort in bar entrichtet werden muss.
URL:https://www.naturschule-mv.de/veranstaltung/naturwerkstatt-feuer/
CATEGORIES:Tagesseminare
END:VEVENT
BEGIN:VEVENT
DTSTART;TZID=Europe/Berlin:20261211T100000
DTEND;TZID=Europe/Berlin:20261211T153000
DTSTAMP:20260424T141039
CREATED:20260422T204137Z
LAST-MODIFIED:20260422T204956Z
UID:10000168-1796983200-1797003000@www.naturschule-mv.de
SUMMARY:Der Jahreskreis und seine Feste – Mit Kindern Naturfeste feiern
DESCRIPTION:Gemeinsam wollen wir alte Naturfeste im Jahreslauf sowie alte Bräuche kennenlernen. Dabei nehmen wir Bezug zu den Qualitäten der Jahreszeiten. Wir lassen sie durch Kreativität\, Geschichten und Rituale lebendig werden\, um die Naturverbindung der Kinder zu vertiefen. \n\n\n\nVeranstaltungsdetailsOrt:Klanghaus Ilow\, 23974 NeuburgZeit: jeweils von 10:00 – 15:30 UhrTeilnahmebeitragDie Preise sind ohne Tagesverpflegung\, bitte bringe einen eigenen Picknickrucksack mit.Es fällt eine zusätzliche Gebühr von 5\,- EUR für Verbrauchsmaterialen an\, die vor Ort in bar entrichtet werden muss.
URL:https://www.naturschule-mv.de/veranstaltung/der-jahreskreis-und-seine-feste-mit-kindern-naturfeste-feiern/
CATEGORIES:Tagesseminare
END:VEVENT
END:VCALENDAR